BEGIN:VCALENDAR
PRODID:-//Pixl8//Eventfolio//EN
VERSION:2.0
X-WR-TIMEZONE:Europe/London
CALSCALE:GREGORIAN
METHOD:PUBLISH
CLASS:PUBLIC
BEGIN:VTIMEZONE
TZID:Europe/London
LAST-MODIFIED:20260306T231828Z
TZURL:https://www.tzurl.org/zoneinfo-outlook/Europe/London
X-LIC-LOCATION:Europe/London
BEGIN:DAYLIGHT
TZNAME:BST
TZOFFSETFROM:+0000
TZOFFSETTO:+0100
DTSTART:19700329T010000
RRULE:FREQ=YEARLY;BYMONTH=3;BYDAY=-1SU
END:DAYLIGHT
BEGIN:STANDARD
TZNAME:GMT
TZOFFSETFROM:+0100
TZOFFSETTO:+0000
DTSTART:19701025T020000
RRULE:FREQ=YEARLY;BYMONTH=10;BYDAY=-1SU
END:STANDARD
END:VTIMEZONE
BEGIN:VEVENT
DTSTART;TZID=Europe/London:20250911T100000
DTEND;TZID=Europe/London:20250911T110000
DTSTAMP:20260420T092353Z
UID:{18FE1804-2D6F-4537-AB130778F0BA532F}
LOCATION:
SUMMARY:VODG Spotlight on International Recruitment
DESCRIPTION:VODG members are invited to this online meeting on international recruitment, to hear from experts on the rule changes and what they mean for organisations who currently employ international workers or are looking to fill vacancies.\n
 \n
 Event details: https://www.vodg.org.uk/event-calendar/vodg-spotlight-on-international-recruitment.html
PRIORITY:1
END:VEVENT
END:VCALENDAR