BEGIN:VCALENDAR
PRODID:-//Pixl8//Eventfolio//EN
VERSION:2.0
X-WR-TIMEZONE:Europe/London
CALSCALE:GREGORIAN
METHOD:PUBLISH
CLASS:PUBLIC
BEGIN:VTIMEZONE
TZID:Europe/London
LAST-MODIFIED:20260306T231828Z
TZURL:https://www.tzurl.org/zoneinfo-outlook/Europe/London
X-LIC-LOCATION:Europe/London
BEGIN:DAYLIGHT
TZNAME:BST
TZOFFSETFROM:+0000
TZOFFSETTO:+0100
DTSTART:19700329T010000
RRULE:FREQ=YEARLY;BYMONTH=3;BYDAY=-1SU
END:DAYLIGHT
BEGIN:STANDARD
TZNAME:GMT
TZOFFSETFROM:+0100
TZOFFSETTO:+0000
DTSTART:19701025T020000
RRULE:FREQ=YEARLY;BYMONTH=10;BYDAY=-1SU
END:STANDARD
END:VTIMEZONE
BEGIN:VEVENT
DTSTART;TZID=Europe/London:20251002T100000
DTEND;TZID=Europe/London:20251002T110000
DTSTAMP:20260421T224850Z
UID:{A4217605-93F3-4D08-A2EEBBCFC46C883E}
LOCATION:
SUMMARY:VODG Member Meeting | Enhancing Board Effectiveness
DESCRIPTION:Join us online on 2 October for a comprehensive and detailed exploration of strategies to enhance board effectiveness. Hear from our VODG partner, Governance & Legal, as they share insights and best practices.\n
 \n
 Event details: https://www.vodg.org.uk/event-calendar/vodg-member-meeting-enhancing-board-effectiveness.html
PRIORITY:1
END:VEVENT
END:VCALENDAR