BEGIN:VCALENDAR
PRODID:-//Pixl8//Eventfolio//EN
VERSION:2.0
X-WR-TIMEZONE:Europe/London
CALSCALE:GREGORIAN
METHOD:PUBLISH
CLASS:PUBLIC
BEGIN:VTIMEZONE
TZID:Europe/London
LAST-MODIFIED:20260306T231828Z
TZURL:https://www.tzurl.org/zoneinfo-outlook/Europe/London
X-LIC-LOCATION:Europe/London
BEGIN:DAYLIGHT
TZNAME:BST
TZOFFSETFROM:+0000
TZOFFSETTO:+0100
DTSTART:19700329T010000
RRULE:FREQ=YEARLY;BYMONTH=3;BYDAY=-1SU
END:DAYLIGHT
BEGIN:STANDARD
TZNAME:GMT
TZOFFSETFROM:+0100
TZOFFSETTO:+0000
DTSTART:19701025T020000
RRULE:FREQ=YEARLY;BYMONTH=10;BYDAY=-1SU
END:STANDARD
END:VTIMEZONE
BEGIN:VEVENT
DTSTART;TZID=Europe/London:20240919T081500
DTEND;TZID=Europe/London:20240919T090000
DTSTAMP:20260420T030038Z
UID:{20AE107B-567E-43F6-BBB4A8C3B1ADA739}
LOCATION:
SUMMARY:VODG CEO Breakfast Meeting | VAT Novation
DESCRIPTION:Following VODG’s previous work on VAT novation, this breakfast meeting will bring CEOs together to share their experience of how novation works and how to maximise its opportunities.\n
 \n
 Event details: https://www.vodg.org.uk/event-calendar/vodg-ceo-breakfast-meeting-vat-novation.html
PRIORITY:1
END:VEVENT
END:VCALENDAR