BEGIN:VCALENDAR
PRODID:-//Pixl8//Eventfolio//EN
VERSION:2.0
X-WR-TIMEZONE:Europe/London
CALSCALE:GREGORIAN
METHOD:PUBLISH
CLASS:PUBLIC
BEGIN:VTIMEZONE
TZID:Europe/London
LAST-MODIFIED:20260306T231828Z
TZURL:https://www.tzurl.org/zoneinfo-outlook/Europe/London
X-LIC-LOCATION:Europe/London
BEGIN:DAYLIGHT
TZNAME:BST
TZOFFSETFROM:+0000
TZOFFSETTO:+0100
DTSTART:19700329T010000
RRULE:FREQ=YEARLY;BYMONTH=3;BYDAY=-1SU
END:DAYLIGHT
BEGIN:STANDARD
TZNAME:GMT
TZOFFSETFROM:+0100
TZOFFSETTO:+0000
DTSTART:19701025T020000
RRULE:FREQ=YEARLY;BYMONTH=10;BYDAY=-1SU
END:STANDARD
END:VTIMEZONE
BEGIN:VEVENT
DTSTART;TZID=Europe/London:20241106T081500
DTEND;TZID=Europe/London:20241106T090000
DTSTAMP:20260421T084810Z
UID:{EE6C796D-F3E3-4BA1-ACC3261C5A8074BE}
LOCATION:
SUMMARY:VODG CEO Breakfast Meeting | Executive Pay and Rewards: Benchmark Results 
DESCRIPTION:Only open to members who contributed to the executive pay and rewards benchmarking, this event will present the report results and allow for discussion.\n
 \n
 Event details: https://www.vodg.org.uk/event-calendar/vodg-ceo-breakfast-meeting-executive-pay-and-rewards-benchmark-results.html
PRIORITY:1
END:VEVENT
END:VCALENDAR