BEGIN:VCALENDAR
PRODID:-//Pixl8//Eventfolio//EN
VERSION:2.0
X-WR-TIMEZONE:Europe/London
CALSCALE:GREGORIAN
METHOD:PUBLISH
CLASS:PUBLIC
BEGIN:VTIMEZONE
TZID:Europe/London
LAST-MODIFIED:20260306T231828Z
TZURL:https://www.tzurl.org/zoneinfo-outlook/Europe/London
X-LIC-LOCATION:Europe/London
BEGIN:DAYLIGHT
TZNAME:BST
TZOFFSETFROM:+0000
TZOFFSETTO:+0100
DTSTART:19700329T010000
RRULE:FREQ=YEARLY;BYMONTH=3;BYDAY=-1SU
END:DAYLIGHT
BEGIN:STANDARD
TZNAME:GMT
TZOFFSETFROM:+0100
TZOFFSETTO:+0000
DTSTART:19701025T020000
RRULE:FREQ=YEARLY;BYMONTH=10;BYDAY=-1SU
END:STANDARD
END:VTIMEZONE
BEGIN:VEVENT
DTSTART;TZID=Europe/London:20250610T083000
DTEND;TZID=Europe/London:20250610T183000
DTSTAMP:20260425T124403Z
UID:{49519E0D-5688-457C-9550685591483EF0.45818}
LOCATION:Eastside Rooms\, 2 Woodcock Street\, Birmingham\, West Midlands B7 4BL
SUMMARY:VODG Annual Conference 2025 (Sold Out)
DESCRIPTION:The conference is now sold out. However, you may still receive a ticket by adding your name to the waiting list.\n
 \n
 Event details: https://www.vodg.org.uk/event-calendar/vodg-annual-conference-2025-sold-out.html
PRIORITY:1
END:VEVENT
END:VCALENDAR