BEGIN:VCALENDAR
PRODID:-//Pixl8//Eventfolio//EN
VERSION:2.0
X-WR-TIMEZONE:Europe/London
CALSCALE:GREGORIAN
METHOD:PUBLISH
CLASS:PUBLIC
BEGIN:VTIMEZONE
TZID:Europe/London
LAST-MODIFIED:20260306T231828Z
TZURL:https://www.tzurl.org/zoneinfo-outlook/Europe/London
X-LIC-LOCATION:Europe/London
BEGIN:DAYLIGHT
TZNAME:BST
TZOFFSETFROM:+0000
TZOFFSETTO:+0100
DTSTART:19700329T010000
RRULE:FREQ=YEARLY;BYMONTH=3;BYDAY=-1SU
END:DAYLIGHT
BEGIN:STANDARD
TZNAME:GMT
TZOFFSETFROM:+0100
TZOFFSETTO:+0000
DTSTART:19701025T020000
RRULE:FREQ=YEARLY;BYMONTH=10;BYDAY=-1SU
END:STANDARD
END:VTIMEZONE
BEGIN:VEVENT
DTSTART;TZID=Europe/London:20250604T110000
DTEND;TZID=Europe/London:20250604T120000
DTSTAMP:20260423T091100Z
UID:{67E34500-3823-48A1-BBD7121CBC40B901}
LOCATION:
SUMMARY:Relationship Between Governance and the Executive
DESCRIPTION:The upcoming charity event will spotlight the vital connection between governance and executive power in the nonprofit sector. Experts will discuss how effective leadership can enhance transparency, accountability, and trust in charitable organisations\n
 \n
 Event details: https://www.vodg.org.uk/event-calendar/relationship-between-governance-and-the-executive.html
PRIORITY:1
END:VEVENT
END:VCALENDAR